BEGIN:VCALENDAR
VERSION:2.0
PRODID:-//Topeka Elite Cheer - ECPv6.15.20//NONSGML v1.0//EN
CALSCALE:GREGORIAN
METHOD:PUBLISH
X-WR-CALNAME:Topeka Elite Cheer
X-ORIGINAL-URL:https://topekaelitecheer.com
X-WR-CALDESC:Events for Topeka Elite Cheer
REFRESH-INTERVAL;VALUE=DURATION:PT1H
X-Robots-Tag:noindex
X-PUBLISHED-TTL:PT1H
BEGIN:VTIMEZONE
TZID:UTC
BEGIN:STANDARD
TZOFFSETFROM:+0000
TZOFFSETTO:+0000
TZNAME:UTC
DTSTART:20250101T000000
END:STANDARD
END:VTIMEZONE
BEGIN:VEVENT
DTSTART;TZID=UTC:20260207T100000
DTEND;TZID=UTC:20260228T104500
DTSTAMP:20260422T102148
CREATED:20260128T004116Z
LAST-MODIFIED:20260128T004122Z
UID:10000042-1770458400-1772275500@topekaelitecheer.com
SUMMARY:TEC Treehouse :: February Session
DESCRIPTION:🌳 TEC Treehouse is now enrolling! 🌳 \nOur Movement & Music class helps littles build coordination\, rhythm\, and confidence through fun\, playful movement.\nLearning through music. Growing through motion. \nEnroll today in our 4 week session!🩵\ngo.topekaelitecheer.com/treehouse \n  \n 
URL:https://topekaelitecheer.com/event/tec-treehouse-february-session/
CATEGORIES:Upcoming Events
ATTACH;FMTTYPE=image/png:https://topekaelitecheer.com/wp-content/uploads/2026/01/New-event-banners-1.png
END:VEVENT
BEGIN:VEVENT
DTSTART;TZID=UTC:20260221T100000
DTEND;TZID=UTC:20260221T104500
DTSTAMP:20260422T102148
CREATED:20260122T184751Z
LAST-MODIFIED:20260122T184800Z
UID:10000038-1771668000-1771670700@topekaelitecheer.com
SUMMARY:Level 1 Tumbling Tryout Prep Clinic
DESCRIPTION:This clinic is designed for athletes preparing for Season 6 tryouts who are working Level 1 tumbling skills. Athletes will focus on strong technique\, clean body positions\, and confidence in foundational skills that are commonly evaluated during tryouts. \nFocus skills may include: \nForward & backward rolls \nCartwheels & round-offs \nHandstands & bridges \nFront & back walkovers \nValdez & switching leg skills \nThis clinic is ideal for athletes looking to clean up basics\, improve consistency\, and begin tryout preparation early. \n  \n 
URL:https://topekaelitecheer.com/event/level-1-tumbling-tryout-prep-clinic/
CATEGORIES:Upcoming Events
ATTACH;FMTTYPE=image/png:https://topekaelitecheer.com/wp-content/uploads/2026/01/feb-ali-clinics-banner.png
END:VEVENT
BEGIN:VEVENT
DTSTART;TZID=UTC:20260221T104500
DTEND;TZID=UTC:20260221T113000
DTSTAMP:20260422T102148
CREATED:20260122T185122Z
LAST-MODIFIED:20260122T185129Z
UID:10000040-1771670700-1771673400@topekaelitecheer.com
SUMMARY:Front Tumbling Clinic
DESCRIPTION:Who's ready for some front tumbling? Whether your working on your front walkover\, front aerial\, punch front or anything in between we cant wait to see you improve! \n  \n 
URL:https://topekaelitecheer.com/event/front-tumbling-clinic/
CATEGORIES:Upcoming Events
ATTACH;FMTTYPE=image/png:https://topekaelitecheer.com/wp-content/uploads/2026/01/feb-ali-clinics-banner2.png
END:VEVENT
BEGIN:VEVENT
DTSTART;TZID=UTC:20260221T113000
DTEND;TZID=UTC:20260221T121500
DTSTAMP:20260422T102148
CREATED:20260122T184922Z
LAST-MODIFIED:20260122T184930Z
UID:10000039-1771673400-1771676100@topekaelitecheer.com
SUMMARY:Level 2 Tumbling Tryout Prep Clinic
DESCRIPTION:This clinic is designed for athletes preparing for Season 6 tryouts who are working Level 2 tumbling skills. Athletes will focus on power\, technique\, and control in skills typically evaluated during tryouts. \nFocus skills may include: \nBack handsprings \nRound-off back handsprings \nStanding back handspring drills \nSpeed & connection progressions \nThis clinic will help athletes build confidence\, increase consistency\, and prepare both mentally and physically for the upcoming tryout season. \n  \n 
URL:https://topekaelitecheer.com/event/level-2-tumbling-tryout-prep-clinic/
CATEGORIES:Upcoming Events
ATTACH;FMTTYPE=image/png:https://topekaelitecheer.com/wp-content/uploads/2026/01/feb-ali-clinics-banner1.png
END:VEVENT
END:VCALENDAR