BEGIN:VCALENDAR
VERSION:2.0
PRODID:-//Topeka Elite Cheer - ECPv6.15.20//NONSGML v1.0//EN
CALSCALE:GREGORIAN
METHOD:PUBLISH
X-WR-CALNAME:Topeka Elite Cheer
X-ORIGINAL-URL:https://topekaelitecheer.com
X-WR-CALDESC:Events for Topeka Elite Cheer
REFRESH-INTERVAL;VALUE=DURATION:PT1H
X-Robots-Tag:noindex
X-PUBLISHED-TTL:PT1H
BEGIN:VTIMEZONE
TZID:UTC
BEGIN:STANDARD
TZOFFSETFROM:+0000
TZOFFSETTO:+0000
TZNAME:UTC
DTSTART:20240101T000000
END:STANDARD
END:VTIMEZONE
BEGIN:VTIMEZONE
TZID:UTC
BEGIN:STANDARD
TZOFFSETFROM:+0000
TZOFFSETTO:+0000
TZNAME:UTC
DTSTART:20250101T000000
END:STANDARD
END:VTIMEZONE
BEGIN:VEVENT
DTSTART;TZID=UTC:20260716T090000
DTEND;TZID=UTC:20260716T120000
DTSTAMP:20260420T161533
CREATED:20260306T181349Z
LAST-MODIFIED:20260306T181355Z
UID:10000055-1784192400-1784203200@topekaelitecheer.com
SUMMARY:Beach Bash Camp
DESCRIPTION:Beach Bash Camp \nCatch the summer vibes at Beach Bash Camp! Athletes will enjoy beach-themed games\, tumbling & fun challenges. It’s the ultimate summer party full of movement and fun! \nPlease bring towel. Water activities will occur. \n  \n 
URL:https://topekaelitecheer.com/event/beach-bash-camp/
CATEGORIES:Summer Camps
ATTACH;FMTTYPE=image/png:https://topekaelitecheer.com/wp-content/uploads/2026/03/7.png
END:VEVENT
BEGIN:VEVENT
DTSTART;TZID=UTC:20260714T090000
DTEND;TZID=UTC:20260714T120000
DTSTAMP:20260420T161533
CREATED:20260306T181056Z
LAST-MODIFIED:20260306T181102Z
UID:10000054-1784019600-1784030400@topekaelitecheer.com
SUMMARY:Nerf & Ninja Camp
DESCRIPTION:Nerf & Ninja Camp\nAction-packed fun awaits! Athletes will test their speed\, agility\, and ninja skills through obstacle courses\, Nerf challenges\, and exciting games. This high-energy camp focuses on movement\, teamwork\, and tons of adventure. \nPlease bring your nerf guns with you. TEC will provide nerf bullets to use! \n  \n 
URL:https://topekaelitecheer.com/event/nerf-ninja-camp/
CATEGORIES:Summer Camps
ATTACH;FMTTYPE=image/png:https://topekaelitecheer.com/wp-content/uploads/2026/03/6-1.png
END:VEVENT
BEGIN:VEVENT
DTSTART;TZID=UTC:20260623T090000
DTEND;TZID=UTC:20260625T120000
DTSTAMP:20260420T161533
CREATED:20260306T180823Z
LAST-MODIFIED:20260306T180829Z
UID:10000053-1782205200-1782388800@topekaelitecheer.com
SUMMARY:Sparkle & Shine Cheer Camp
DESCRIPTION:Sparkle & Shine Cheer Camp\nBring the sparkle! During this 3-day cheer camp\, athletes will learn cheer motions\, jumps\, and a fun routine while enjoying games\, crafts\, and confidence-building activities. Campers will also decorate their own cheer bow to take home. The camp wraps up with a special performance at the final showcase where athletes can show off everything they learned! \n  \n 
URL:https://topekaelitecheer.com/event/sparkle-shine-cheer-camp/
CATEGORIES:Summer Camps
ATTACH;FMTTYPE=image/png:https://topekaelitecheer.com/wp-content/uploads/2026/03/5-1.png
END:VEVENT
BEGIN:VEVENT
DTSTART;TZID=UTC:20260618T093000
DTEND;TZID=UTC:20260618T113000
DTSTAMP:20260420T161533
CREATED:20260306T180614Z
LAST-MODIFIED:20260309T171702Z
UID:10000052-1781775000-1781782200@topekaelitecheer.com
SUMMARY:Super Hero Training Camp
DESCRIPTION:Super Hero Training Camp \nCalling all superheroes! Athletes will train like heroes as they build strength\, agility\, and confidence through obstacle courses\, tumbling drills\, and exciting superhero challenges. Capes optional—but courage and teamwork are required! \n  \n 
URL:https://topekaelitecheer.com/event/super-hero-training-camp/
CATEGORIES:Summer Camps
ATTACH;FMTTYPE=image/png:https://topekaelitecheer.com/wp-content/uploads/2026/03/super-hero-training-camp1.png
END:VEVENT
BEGIN:VEVENT
DTSTART;TZID=UTC:20260616T093000
DTEND;TZID=UTC:20260616T113000
DTSTAMP:20260420T161533
CREATED:20260306T175839Z
LAST-MODIFIED:20260306T175930Z
UID:10000051-1781602200-1781609400@topekaelitecheer.com
SUMMARY:Tie Dye & Tumble Summer Camp
DESCRIPTION:Tie Dye & Tumble Camp \nGet ready to flip\, tumble\, and create! Athletes will work on tumbling skills\, play fun games\, and design their own colorful tie-dye creation to take home. This camp combines creativity\, movement\, and high-energy fun for a week full of bright colors and big skills! \n  \n 
URL:https://topekaelitecheer.com/event/tie-dye-tumble-summer-camp/
CATEGORIES:Summer Camps
ATTACH;FMTTYPE=image/png:https://topekaelitecheer.com/wp-content/uploads/2026/03/3-1.png
END:VEVENT
BEGIN:VEVENT
DTSTART;TZID=UTC:20260608T090000
DTEND;TZID=UTC:20260610T120000
DTSTAMP:20260420T161533
CREATED:20260306T174744Z
LAST-MODIFIED:20260306T174758Z
UID:10000050-1780909200-1781092800@topekaelitecheer.com
SUMMARY:TEC Olympics Summer Camp
DESCRIPTION:TEC Olympics Summer Camp \nLet the games begin! At TEC Olympics Camp\, athletes will compete in exciting Olympic-style challenges\, obstacle courses\, tumbling games\, and team relays as they train like champions. Campers will build strength\, confidence\, and teamwork while competing for gold\, silver\, and bronze medals in fun cheer and fitness events. Get ready for high energy\, friendly competition\, and an unforgettable week of Olympic-style fun at Topeka Elite Cheer! 🥇✨ \n  \n 
URL:https://topekaelitecheer.com/event/tec-olympics-summer-camp/
CATEGORIES:Summer Camps
ATTACH;FMTTYPE=image/png:https://topekaelitecheer.com/wp-content/uploads/2026/03/2-1.png
END:VEVENT
BEGIN:VEVENT
DTSTART;TZID=UTC:20260527T090000
DTEND;TZID=UTC:20260529T120000
DTSTAMP:20260420T161533
CREATED:20260306T152737Z
LAST-MODIFIED:20260306T152743Z
UID:10000049-1779872400-1780056000@topekaelitecheer.com
SUMMARY:Get HYPE Cheer Camp
DESCRIPTION:Get HYPE Cheer Camp \nGet ready to bring the energy and GET HYPE! 📣 This fun\, high-energy cheer camp is perfect for athletes who want to jump\, stunt\, tumble\, and dance like a cheerleader. \nThroughout camp\, athletes will work on cheer motions\, jumps\, beginner stunting basics\, tumbling\, and learning a short routine. On the final day of camp\, families are invited to a mini showcase at pickup where athletes will perform what they learned! \nEach camper will also receive a Hype Cheer Camp t-shirt included in the camp price! \nCome ready to build confidence\, make new friends\, and have tons of fun at TEC! 🖤 \n  \n 
URL:https://topekaelitecheer.com/event/get-hype-cheer-camp/
CATEGORIES:Summer Camps
ATTACH;FMTTYPE=image/png:https://topekaelitecheer.com/wp-content/uploads/2026/03/S6-Summer-Camp-event-graphics.png
END:VEVENT
BEGIN:VEVENT
DTSTART;TZID=UTC:20260406T181500
DTEND;TZID=UTC:20260406T201500
DTSTAMP:20260420T161533
CREATED:20260331T163316Z
LAST-MODIFIED:20260331T163321Z
UID:10000059-1775499300-1775506500@topekaelitecheer.com
SUMMARY:Season 5 Finale
DESCRIPTION:✨ SEASON 5 SHOWCASE ✨\nJoin us as we celebrate an incredible season and watch all of our teams take the floor one last time 👏\nFrom the growth to the memories — this is a night you won’t want to miss 🩵 \n📍 Stormont Vail Events Center\n🗓 April 6th | 6:15PM \n🎟 Grab your tickets now: https://www.ticketmaster.com/tec…/event/06006471A2BFB83B\nOr visit the box office Monday-Friday 10am-4:30pm to avoid ticketmaster fees. \n  \n 
URL:https://topekaelitecheer.com/event/season-5-finale/
CATEGORIES:Upcoming Events
ATTACH;FMTTYPE=image/png:https://topekaelitecheer.com/wp-content/uploads/2026/03/season-5-finale-schedule-banner.png
END:VEVENT
BEGIN:VEVENT
DTSTART;TZID=UTC:20260403T183000
DTEND;TZID=UTC:20260403T193000
DTSTAMP:20260420T161533
CREATED:20260323T165210Z
LAST-MODIFIED:20260323T165214Z
UID:10000058-1775241000-1775244600@topekaelitecheer.com
SUMMARY:Open Gym :: April 3rd\, 10th\, 12th & 26th
DESCRIPTION:Open Gym = extra reps + extra fun 🙌 \nCome use the floor\, practice your skills\, and hang out with friends in a supervised\, high-energy environment! \n  \n 
URL:https://topekaelitecheer.com/event/open-gym-april-3rd-10th-12th-26th/
CATEGORIES:Upcoming Events
ATTACH;FMTTYPE=image/png:https://topekaelitecheer.com/wp-content/uploads/2026/03/open-gym-banner-april.png
END:VEVENT
BEGIN:VEVENT
DTSTART;TZID=UTC:20260403T173000
DTEND;TZID=UTC:20260403T193000
DTSTAMP:20260420T161533
CREATED:20260212T165127Z
LAST-MODIFIED:20260212T165127Z
UID:10000045-1775237400-1775244600@topekaelitecheer.com
SUMMARY:TEC Open House :: April 3rd
DESCRIPTION:✨ You’re Invited to the Topeka Elite Cheer Open House! ✨ \nJoin us for an exciting Open House at Topeka Elite Cheer on Friday\, April 3rd from 5:30–7:30 PM! This is the perfect opportunity for new and interested families to step inside our gym\, meet our incredible staff\, and learn what makes TEC such a special place to grow. \nDuring our Open House\, you’ll be able to: \n👋 Meet our coaches and staff \n🏟️ Tour our facility \n📣 Learn about our programs and team options \n⭐ Receive a FREE athlete evaluation \nWhether your athlete is brand new to cheer or looking for their next level\, we’d love to meet you and help find the best fit for your family. \n📍 Location:\n6260 SW 9th Terrace\, Topeka\, KS 66615\n(10th & Wanamaker Corridor) \n👉 RSVP below to save your spot today!\nWe can’t wait to welcome you to the TEC family.\nYou should be here! 💙🖤
URL:https://topekaelitecheer.com/event/tec-open-house-april-3rd/
CATEGORIES:Upcoming Events
ATTACH;FMTTYPE=image/png:https://topekaelitecheer.com/wp-content/uploads/2026/02/New-event-banners-2.png
END:VEVENT
BEGIN:VEVENT
DTSTART;TZID=UTC:20260322T164500
DTEND;TZID=UTC:20260322T180000
DTSTAMP:20260420T161533
CREATED:20260225T183752Z
LAST-MODIFIED:20260226T204502Z
UID:10000046-1774197900-1774202400@topekaelitecheer.com
SUMMARY:Open Gym :: March 22nd
DESCRIPTION:Need extra reps? Want to work on new skills? Or just come have some fun on the floor? 👏 \nOpen Gym is the perfect chance to practice\, play\, and level up in a safe\, supervised environment! \n  \n 
URL:https://topekaelitecheer.com/event/open-gym-march-22nd/
CATEGORIES:Upcoming Events
ATTACH;FMTTYPE=image/png:https://topekaelitecheer.com/wp-content/uploads/2026/02/open-gym-website-banner-march2.png
END:VEVENT
BEGIN:VEVENT
DTSTART;TZID=UTC:20260320T183000
DTEND;TZID=UTC:20260320T200000
DTSTAMP:20260420T161533
CREATED:20260225T183624Z
LAST-MODIFIED:20260226T204607Z
UID:10000047-1774031400-1774036800@topekaelitecheer.com
SUMMARY:Open Gym :: March 20th
DESCRIPTION:Need extra reps? Want to work on new skills? Or just come have some fun on the floor? 👏 \nOpen Gym is the perfect chance to practice\, play\, and level up in a safe\, supervised environment! \n  \n 
URL:https://topekaelitecheer.com/event/open-gym-march-20th/
CATEGORIES:Upcoming Events
ATTACH;FMTTYPE=image/png:https://topekaelitecheer.com/wp-content/uploads/2026/02/open-gym-website-banner-march1.png
END:VEVENT
BEGIN:VEVENT
DTSTART;TZID=UTC:20260308T164500
DTEND;TZID=UTC:20260308T180000
DTSTAMP:20260420T161533
CREATED:20260226T181434Z
LAST-MODIFIED:20260226T204638Z
UID:10000048-1772988300-1772992800@topekaelitecheer.com
SUMMARY:Open Gym :: March 8th
DESCRIPTION:Flip into the fun! 🤸‍♀️ Open Gym at TEC is the perfect time to practice skills\, burn energy\, and have a blast with friends! \n  \n 
URL:https://topekaelitecheer.com/event/open-gym-march-8th-2/
CATEGORIES:Upcoming Events
ATTACH;FMTTYPE=image/png:https://topekaelitecheer.com/wp-content/uploads/2026/02/open-gym-website-banner-march3.png
END:VEVENT
BEGIN:VEVENT
DTSTART;TZID=UTC:20260225T161600
DTEND;TZID=UTC:20260225T170000
DTSTAMP:20260420T161533
CREATED:20260115T190717Z
LAST-MODIFIED:20260115T190724Z
UID:10000037-1772036160-1772038800@topekaelitecheer.com
SUMMARY:Open Tumbling Clinic :: February 25th
DESCRIPTION:Open Tumbling Clinic \nYou pick the skill — we bring the drills and spotting!\nOur Open Tumbling Clinic is a focused\, small-group session designed to give athletes individualized attention on the skills they want to work. \nAthletes of all levels are welcome\, from beginners building confidence to elite tumblers dialing in higher-level skills. Coaches will provide targeted drills\, progressions\, and hands-on spotting to help athletes improve technique and consistency. \n✔️ Athlete-chosen skill focus\n✔️ Individualized drills & spotting\n✔️ Open to beginners through elite tumblers\n✔️ Limited spots for maximum attention \nOnly 8 spots available — enroll early! Take advantage of your early release day from school and come put in the work at TEC! \n  \n 
URL:https://topekaelitecheer.com/event/open-tumbling-clinic-february-25th/
CATEGORIES:Upcoming Events
ATTACH;FMTTYPE=image/png:https://topekaelitecheer.com/wp-content/uploads/2026/01/OTC-feb-25-2026-banner.png
END:VEVENT
BEGIN:VEVENT
DTSTART;TZID=UTC:20260221T113000
DTEND;TZID=UTC:20260221T121500
DTSTAMP:20260420T161533
CREATED:20260122T184922Z
LAST-MODIFIED:20260122T184930Z
UID:10000039-1771673400-1771676100@topekaelitecheer.com
SUMMARY:Level 2 Tumbling Tryout Prep Clinic
DESCRIPTION:This clinic is designed for athletes preparing for Season 6 tryouts who are working Level 2 tumbling skills. Athletes will focus on power\, technique\, and control in skills typically evaluated during tryouts. \nFocus skills may include: \nBack handsprings \nRound-off back handsprings \nStanding back handspring drills \nSpeed & connection progressions \nThis clinic will help athletes build confidence\, increase consistency\, and prepare both mentally and physically for the upcoming tryout season. \n  \n 
URL:https://topekaelitecheer.com/event/level-2-tumbling-tryout-prep-clinic/
CATEGORIES:Upcoming Events
ATTACH;FMTTYPE=image/png:https://topekaelitecheer.com/wp-content/uploads/2026/01/feb-ali-clinics-banner1.png
END:VEVENT
BEGIN:VEVENT
DTSTART;TZID=UTC:20260221T104500
DTEND;TZID=UTC:20260221T113000
DTSTAMP:20260420T161533
CREATED:20260122T185122Z
LAST-MODIFIED:20260122T185129Z
UID:10000040-1771670700-1771673400@topekaelitecheer.com
SUMMARY:Front Tumbling Clinic
DESCRIPTION:Who's ready for some front tumbling? Whether your working on your front walkover\, front aerial\, punch front or anything in between we cant wait to see you improve! \n  \n 
URL:https://topekaelitecheer.com/event/front-tumbling-clinic/
CATEGORIES:Upcoming Events
ATTACH;FMTTYPE=image/png:https://topekaelitecheer.com/wp-content/uploads/2026/01/feb-ali-clinics-banner2.png
END:VEVENT
BEGIN:VEVENT
DTSTART;TZID=UTC:20260221T100000
DTEND;TZID=UTC:20260221T104500
DTSTAMP:20260420T161533
CREATED:20260122T184751Z
LAST-MODIFIED:20260122T184800Z
UID:10000038-1771668000-1771670700@topekaelitecheer.com
SUMMARY:Level 1 Tumbling Tryout Prep Clinic
DESCRIPTION:This clinic is designed for athletes preparing for Season 6 tryouts who are working Level 1 tumbling skills. Athletes will focus on strong technique\, clean body positions\, and confidence in foundational skills that are commonly evaluated during tryouts. \nFocus skills may include: \nForward & backward rolls \nCartwheels & round-offs \nHandstands & bridges \nFront & back walkovers \nValdez & switching leg skills \nThis clinic is ideal for athletes looking to clean up basics\, improve consistency\, and begin tryout preparation early. \n  \n 
URL:https://topekaelitecheer.com/event/level-1-tumbling-tryout-prep-clinic/
CATEGORIES:Upcoming Events
ATTACH;FMTTYPE=image/png:https://topekaelitecheer.com/wp-content/uploads/2026/01/feb-ali-clinics-banner.png
END:VEVENT
BEGIN:VEVENT
DTSTART;TZID=UTC:20260207T100000
DTEND;TZID=UTC:20260228T104500
DTSTAMP:20260420T161533
CREATED:20260128T004116Z
LAST-MODIFIED:20260128T004122Z
UID:10000042-1770458400-1772275500@topekaelitecheer.com
SUMMARY:TEC Treehouse :: February Session
DESCRIPTION:🌳 TEC Treehouse is now enrolling! 🌳 \nOur Movement & Music class helps littles build coordination\, rhythm\, and confidence through fun\, playful movement.\nLearning through music. Growing through motion. \nEnroll today in our 4 week session!🩵\ngo.topekaelitecheer.com/treehouse \n  \n 
URL:https://topekaelitecheer.com/event/tec-treehouse-february-session/
CATEGORIES:Upcoming Events
ATTACH;FMTTYPE=image/png:https://topekaelitecheer.com/wp-content/uploads/2026/01/New-event-banners-1.png
END:VEVENT
BEGIN:VEVENT
DTSTART;TZID=UTC:20260201T164500
DTEND;TZID=UTC:20260201T180000
DTSTAMP:20260420T161533
CREATED:20260128T003214Z
LAST-MODIFIED:20260128T003222Z
UID:10000041-1769964300-1769968800@topekaelitecheer.com
SUMMARY:Open Gym :: February 1st
DESCRIPTION:Need some extra floor time? 👀\nOpen Gym is back! \n📅 February 1st\n⏰ 4:45–6:00 PM \nCome tumble\, train\, and have fun with friends!\nEnroll now 🩵 \n  \n 
URL:https://topekaelitecheer.com/event/open-gym-february-1st/
CATEGORIES:Upcoming Events
ATTACH;FMTTYPE=image/png:https://topekaelitecheer.com/wp-content/uploads/2026/01/New-event-banners.png
END:VEVENT
BEGIN:VEVENT
DTSTART;TZID=UTC:20260125T164500
DTEND;TZID=UTC:20260125T180000
DTSTAMP:20260420T161533
CREATED:20260105T022131Z
LAST-MODIFIED:20260105T022138Z
UID:10000036-1769359500-1769364000@topekaelitecheer.com
SUMMARY:Open Gym :: January 25th
DESCRIPTION:✨ OPEN GYM IS BACK! ✨ \nThis is the perfect chance to get extra reps\, work skills\, and stay active in a fun\, supervised environment 💪 \n🖤 Open to the public\n💲 $8 per athlete\n✔️ Must register online \nCoaches will be present for safety supervision only — athletes may work independently on tumbling\, jumps\, and cheer skills. \nSpots are limited\, so be sure to save yours! \n  \n 
URL:https://topekaelitecheer.com/event/open-gym-january-25th/
CATEGORIES:Upcoming Events
ATTACH;FMTTYPE=image/png:https://topekaelitecheer.com/wp-content/uploads/2026/01/New-event-banners-7.png
END:VEVENT
BEGIN:VEVENT
DTSTART;TZID=UTC:20260124T170000
DTEND;TZID=UTC:20260124T183000
DTSTAMP:20260420T161533
CREATED:20251226T023339Z
LAST-MODIFIED:20251226T023341Z
UID:10000030-1769274000-1769279400@topekaelitecheer.com
SUMMARY:Intro To All Star :: January & February Session
DESCRIPTION:Thinking about All-Star cheer? This is where it starts 💫 \nIntro to All-Star runs January–February with TWO age groups open:\n⭐ Ages 3–6\n⭐ Ages 7–14 \nLearn skills\, build confidence & shine in a final performance!\n🩵 Limited spots available — enroll today! \n  \n 
URL:https://topekaelitecheer.com/event/intro-to-all-star-january-february-session/
CATEGORIES:Upcoming Events
ATTACH;FMTTYPE=image/png:https://topekaelitecheer.com/wp-content/uploads/2025/12/New-event-banners-3.png
END:VEVENT
BEGIN:VEVENT
DTSTART;TZID=UTC:20260123T183000
DTEND;TZID=UTC:20260123T200000
DTSTAMP:20260420T161533
CREATED:20260105T021957Z
LAST-MODIFIED:20260105T022004Z
UID:10000035-1769193000-1769198400@topekaelitecheer.com
SUMMARY:Open Gym :: January 23rd
DESCRIPTION:✨ OPEN GYM IS BACK! ✨ \nThis is the perfect chance to get extra reps\, work skills\, and stay active in a fun\, supervised environment 💪 \n🖤 Open to the public\n💲 $8 per athlete\n✔️ Must register online \nCoaches will be present for safety supervision only — athletes may work independently on tumbling\, jumps\, and cheer skills. \nSpots are limited\, so be sure to save yours! \n  \n 
URL:https://topekaelitecheer.com/event/open-gym-january-23rd/
CATEGORIES:Upcoming Events
ATTACH;FMTTYPE=image/png:https://topekaelitecheer.com/wp-content/uploads/2026/01/New-event-banners-9.png
END:VEVENT
BEGIN:VEVENT
DTSTART;TZID=UTC:20260119T140000
DTEND;TZID=UTC:20260119T163000
DTSTAMP:20260420T161533
CREATED:20260105T015326Z
LAST-MODIFIED:20260105T015334Z
UID:10000033-1768831200-1768840200@topekaelitecheer.com
SUMMARY:Group Stunting Clinic
DESCRIPTION:🚨 NEW CLINIC JUST DROPPED! 🚨 \nOur Group Stunt Clinic is happening January 19th and is open to flyers\, bases & backspots ready to level up their stunt skills 💪✨ \nJoin us for hands-on instruction\, elite-level technique\, and reps that build confidence and strength — all led by current K-State cheer athletes 🟣⚪️\nBring your stunt group or come as an individual athlete! All are welcome! \n🗓 January 19\n⏰ Ages 9–13 | 2:00–3:00 PM\n⏰ Ages 14+ | 3:00–4:30 PM\n📍 Topeka Elite Cheer \nSpots are limited — don’t wait!\n🔗 Register now: go.topekaelitecheer.com/clinics \n  \n 
URL:https://topekaelitecheer.com/event/group-stunting-clinic/
CATEGORIES:Upcoming Events
ATTACH;FMTTYPE=image/png:https://topekaelitecheer.com/wp-content/uploads/2026/01/New-event-banners-6.png
END:VEVENT
BEGIN:VEVENT
DTSTART;TZID=UTC:20260111T164500
DTEND;TZID=UTC:20260111T180000
DTSTAMP:20260420T161533
CREATED:20260105T021726Z
LAST-MODIFIED:20260105T021734Z
UID:10000034-1768149900-1768154400@topekaelitecheer.com
SUMMARY:Open Gym :: January 11th
DESCRIPTION:✨ OPEN GYM IS BACK! ✨ \nThis is the perfect chance to get extra reps\, work skills\, and stay active in a fun\, supervised environment 💪 \n🖤 Open to the public\n💲 $8 per athlete\n✔️ Must register online \nCoaches will be present for safety supervision only — athletes may work independently on tumbling\, jumps\, and cheer skills. \nSpots are limited\, so be sure to save yours! \n  \n 
URL:https://topekaelitecheer.com/event/open-gym-january-11th/
CATEGORIES:Upcoming Events
ATTACH;FMTTYPE=image/png:https://topekaelitecheer.com/wp-content/uploads/2026/01/New-event-banners-8.png
END:VEVENT
BEGIN:VEVENT
DTSTART;TZID=UTC:20260110T110000
DTEND;TZID=UTC:20260111T123000
DTSTAMP:20260420T161533
CREATED:20260105T013533Z
LAST-MODIFIED:20260105T013540Z
UID:10000032-1768042800-1768134600@topekaelitecheer.com
SUMMARY:Tumbling Tryout Prep Clinics
DESCRIPTION:Season 6 prep starts NOW 💥 \nOur Tumbling Tryout Prep Clinics are happening THIS SATURDAY and they’re the perfect way to get a head start on next season. Whether you’re polishing basics or pushing for the next level\, early prep makes all the difference 💪✨ \n✔️ Skill-focused instruction\n✔️ Confidence heading into tryouts\n✔️ Learn from Coach Ali\n✔️ Be ready when Season 6 arrives \nSpots are limited — don’t wait until tryout week to get ready.\nStart preparing early. Start preparing smart. \n  \n 
URL:https://topekaelitecheer.com/event/tumbling-tryout-prep-clinics/
CATEGORIES:Upcoming Events
ATTACH;FMTTYPE=image/png:https://topekaelitecheer.com/wp-content/uploads/2026/01/New-event-banners-5.png
END:VEVENT
BEGIN:VEVENT
DTSTART;TZID=UTC:20260102T120000
DTEND;TZID=UTC:20260102T133000
DTSTAMP:20260420T161533
CREATED:20251229T031544Z
LAST-MODIFIED:20251229T031550Z
UID:10000031-1767355200-1767360600@topekaelitecheer.com
SUMMARY:Group Stunt Clinic :: January 2nd
DESCRIPTION:Join us for an elite Group Stunt Clinic led by athletes from Kansas State University! This high-energy clinic is perfect for athletes ready to push their skills\, work advanced stunt technique\, and throw big skills in a focused group setting. \n📅 Date: January 2nd\n⏰ Time: 12:00–1:30 PM\n👥 Coaches: Aidan\, Landon & Dominic \n✨ Who can attend:\nOpen to flyers\, bases\, and backspots who are ready to learn\, grow\, and challenge themselves in group stunt scenarios. Bring your stunt group if you would like!  \nExpect hands-on instruction\, college-level technique\, and plenty of reps designed to build confidence and elevate your stunting. Spots are limited—don’t miss this one! \n  \n 
URL:https://topekaelitecheer.com/event/group-stunt-clinic-january-2nd/
CATEGORIES:Upcoming Events
ATTACH;FMTTYPE=image/png:https://topekaelitecheer.com/wp-content/uploads/2025/12/New-event-banners-4.png
END:VEVENT
BEGIN:VEVENT
DTSTART;TZID=UTC:20260102T104500
DTEND;TZID=UTC:20260102T120000
DTSTAMP:20260420T161533
CREATED:20251226T014512Z
LAST-MODIFIED:20251226T014516Z
UID:10000027-1767350700-1767355200@topekaelitecheer.com
SUMMARY:Open Gym :: January 2nd
DESCRIPTION:Open Gym is BACK! 💥🩵 \n📅 January 2\n⏰ 10:45 AM – 12:00 PM\n💲 $8\n📍 Topeka Elite Cheer \nOpen to the public + perfect for getting extra reps\, trying new skills\, or just burning off some holiday energy!\n⚠️ Must register online to attend. \n👉 Enroll now at go.topekaelitecheer.com/opengym\nLimited spots available — tag a friend & come train with us! 💪✨ \n  \n 
URL:https://topekaelitecheer.com/event/open-gym-january-2nd/
CATEGORIES:Upcoming Events
ATTACH;FMTTYPE=image/png:https://topekaelitecheer.com/wp-content/uploads/2025/12/Open-Gym-social-media-16-x-9-in.png
END:VEVENT
BEGIN:VEVENT
DTSTART;TZID=UTC:20260102T100000
DTEND;TZID=UTC:20260102T104500
DTSTAMP:20260420T161533
CREATED:20251226T020302Z
LAST-MODIFIED:20251226T020306Z
UID:10000029-1767348000-1767350700@topekaelitecheer.com
SUMMARY:TEC TREEHOUSE :: Jumping Joeys 01/02
DESCRIPTION:🎶 Jumping Joeys is back! 🎶 \nJoin us for a music + movement drop-in clinic designed for our littlest movers! 💕 \nThis drop in clinic is the perfect way to dip your toes into the TEC treehouse and see just how much fun our next session will be! \n🗓 January 2nd\n⏰ 10:00–10:45 AM- 30 minutes of instruction and 15 minutes of open play included!\n👶 Ages 12 months +\nSpots are limited—drop in and move with us! \n  \n 
URL:https://topekaelitecheer.com/event/tec-treehouse-jumping-joeys-01-02/
CATEGORIES:Upcoming Events
ATTACH;FMTTYPE=image/png:https://topekaelitecheer.com/wp-content/uploads/2025/12/New-event-banners-1.png
END:VEVENT
BEGIN:VEVENT
DTSTART;TZID=UTC:20251229T153000
DTEND;TZID=UTC:20251229T170000
DTSTAMP:20260420T161533
CREATED:20251226T015912Z
LAST-MODIFIED:20251226T015915Z
UID:10000028-1767022200-1767027600@topekaelitecheer.com
SUMMARY:Coed Stunting Clinic :: December 29th
DESCRIPTION:COED CLINIC IS BACK 💪🔥 \nThe clinic everyone asks for is HERE — and this one’s special.\nWith competition season in full swing\, this will likely be our last coed clinic for a while 👀 \n📅 December 29th\n⏰ 3:30–5:00 PM\n📍 Open to the public | Limited spots available \nIf coed stunting is on your goals list\, don’t wait — now’s the time to train\, push your skills\, and get after it before schedules fill up. Join Sosa Thomas & Mathew Seelye this monday for another opportunity to get better and advance those skills \n  \n 
URL:https://topekaelitecheer.com/event/coed-stunting-clinic-december-29th/
CATEGORIES:Upcoming Events
ATTACH;FMTTYPE=image/png:https://topekaelitecheer.com/wp-content/uploads/2025/12/New-event-banners.png
END:VEVENT
BEGIN:VEVENT
DTSTART;TZID=UTC:20251124T140000
DTEND;TZID=UTC:20251124T160000
DTSTAMP:20260420T161533
CREATED:20250916T234936Z
LAST-MODIFIED:20250916T234938Z
UID:10000022-1763992800-1764000000@topekaelitecheer.com
SUMMARY:Sing & Slide Party
DESCRIPTION:Get ready for a day of music and movement at TEC! 🎤🛝 \nCampers will take turns belting out their favorite songs on our pro-style karaoke setup and racing down a giant inflatable slide. It’s the perfect mix of singing\, sliding\, and nonstop smiles—ideal for kids who love to perform and play. \n  \n 
URL:https://topekaelitecheer.com/event/sing-slide-party/
CATEGORIES:Upcoming Events
ATTACH;FMTTYPE=image/png:https://topekaelitecheer.com/wp-content/uploads/2025/09/Night-16-x-9-in.png
END:VEVENT
END:VCALENDAR