BEGIN:VCALENDAR
VERSION:2.0
PRODID:-//Topeka Elite Cheer - ECPv6.15.20//NONSGML v1.0//EN
CALSCALE:GREGORIAN
METHOD:PUBLISH
X-WR-CALNAME:Topeka Elite Cheer
X-ORIGINAL-URL:https://topekaelitecheer.com
X-WR-CALDESC:Events for Topeka Elite Cheer
REFRESH-INTERVAL;VALUE=DURATION:PT1H
X-Robots-Tag:noindex
X-PUBLISHED-TTL:PT1H
BEGIN:VTIMEZONE
TZID:UTC
BEGIN:STANDARD
TZOFFSETFROM:+0000
TZOFFSETTO:+0000
TZNAME:UTC
DTSTART:20240101T000000
END:STANDARD
END:VTIMEZONE
BEGIN:VEVENT
DTSTART;TZID=UTC:20250926T183000
DTEND;TZID=UTC:20250926T200000
DTSTAMP:20260420T233523
CREATED:20250918T173006Z
LAST-MODIFIED:20250918T173008Z
UID:10000025-1758911400-1758916800@topekaelitecheer.com
SUMMARY:Open Gym September 26th
DESCRIPTION:The perfect time to practice skills or burn off energy—your choice! \n  \n 
URL:https://topekaelitecheer.com/event/open-gym-september-26th/
CATEGORIES:Upcoming Events
ATTACH;FMTTYPE=image/png:https://topekaelitecheer.com/wp-content/uploads/2025/09/1.png
END:VEVENT
BEGIN:VEVENT
DTSTART;TZID=UTC:20250921T164500
DTEND;TZID=UTC:20250921T180000
DTSTAMP:20260420T233523
CREATED:20250918T172815Z
LAST-MODIFIED:20250918T172818Z
UID:10000024-1758473100-1758477600@topekaelitecheer.com
SUMMARY:Open Gym September 21st
DESCRIPTION:The perfect time to practice skills or burn off energy—your choice! \n  \n 
URL:https://topekaelitecheer.com/event/open-gym-september-21st/
CATEGORIES:Upcoming Events
ATTACH;FMTTYPE=image/png:https://topekaelitecheer.com/wp-content/uploads/2025/09/2.png
END:VEVENT
BEGIN:VEVENT
DTSTART;TZID=UTC:20250919T183000
DTEND;TZID=UTC:20250919T200000
DTSTAMP:20260420T233523
CREATED:20250918T172505Z
LAST-MODIFIED:20250918T172508Z
UID:10000023-1758306600-1758312000@topekaelitecheer.com
SUMMARY:Open Gym September 19th
DESCRIPTION:The perfect time to practice skills or burn off energy—your choice! \n  \n 
URL:https://topekaelitecheer.com/event/open-gym-september-19th/
CATEGORIES:Upcoming Events
ATTACH;FMTTYPE=image/png:https://topekaelitecheer.com/wp-content/uploads/2025/09/Open-Gym919-wide.png
END:VEVENT
END:VCALENDAR